BEGIN:VCALENDAR
VERSION:2.0
PRODID:-//Squarespace Inc/Squarespace 6//v6//EN
BEGIN:VEVENT
UID:5bed12f9b8a045af54629dfd@squarespace.com
DTSTAMP:20181126T223220Z
DTSTART:20190927T200000Z
DTEND:20190929T060000Z
SUMMARY:TIM MCGRAW
END:VEVENT
END:VCALENDAR
