BEGIN:VCALENDAR
VERSION:2.0
PRODID:-//Squarespace Inc/Squarespace 6//v6//EN
BEGIN:VEVENT
UID:5b5e6e338a922d8f9e535eea@squarespace.com
DTSTAMP:20180730T020548Z
DTSTART:20181026T210000Z
DTEND:20181028T070000Z
SUMMARY:The Tap Pack
END:VEVENT
END:VCALENDAR
