BEGIN:VCALENDAR
VERSION:2.0
PRODID:-//Squarespace Inc/Squarespace 6//v6//EN
BEGIN:VEVENT
UID:5df2dba6eeaf93748a200575@squarespace.com
DTSTAMP:20191213T004226Z
DTSTART:20200904T213000Z
DTEND:20200906T064500Z
SUMMARY:The Secret Garden: The Musical
END:VEVENT
END:VCALENDAR
