BEGIN:VCALENDAR
VERSION:2.0
PRODID:-//Squarespace Inc/Squarespace 6//v6//EN
BEGIN:VEVENT
UID:5c0df7854ae237a297ea1a82@squarespace.com
DTSTAMP:20181210T052542Z
DTSTART:20191018T210000Z
DTEND:20191019T220000Z
SUMMARY:THE ROYAL EDINBURGH MILITARY TATTOO
END:VEVENT
END:VCALENDAR
