BEGIN:VCALENDAR
VERSION:2.0
PRODID:-//Squarespace Inc/Squarespace 6//v6//EN
BEGIN:VEVENT
UID:5b99d30f032be40c8f4e02f9@squarespace.com
DTSTAMP:20181120T040732Z
DTSTART:20190923T033000Z
DTEND:20190923T043000Z
SUMMARY:THE GREAT AUSTRALIAN LOOP
END:VEVENT
END:VCALENDAR
