BEGIN:VCALENDAR
VERSION:2.0
PRODID:-//Squarespace Inc/Squarespace 6//v6//EN
BEGIN:VEVENT
UID:5c3d221e4ae2379b5de12938@squarespace.com
DTSTAMP:20190115T000714Z
DTSTART:20190201T210000Z
DTEND:20190203T073000Z
SUMMARY:Rome: City and Empire exhibition
END:VEVENT
END:VCALENDAR
