BEGIN:VCALENDAR
VERSION:2.0
PRODID:-//Squarespace Inc/Squarespace 6//v6//EN
BEGIN:VEVENT
UID:5cb42e77ab5e9c000138211e@squarespace.com
DTSTAMP:20190423T011303Z
DTSTART:20200214T210000Z
DTEND:20200216T063000Z
SUMMARY:Queen + Adam Lambert: The Rhapsody Tour
END:VEVENT
END:VCALENDAR
