BEGIN:VCALENDAR
VERSION:2.0
PRODID:-//Squarespace Inc/Squarespace 6//v6//EN
BEGIN:VEVENT
UID:5b4eaaea352f53acb94e2bc0@squarespace.com
DTSTAMP:20181120T033430Z
DTSTART:20190705T220000Z
DTEND:20190707T063000Z
SUMMARY:MURIEL'S WEDDING THE MUSICAL
END:VEVENT
END:VCALENDAR
