BEGIN:VCALENDAR
VERSION:2.0
PRODID:-//Squarespace Inc/Squarespace 6//v6//EN
BEGIN:VEVENT
UID:5be51e5bf950b7c5585d738c@squarespace.com
DTSTAMP:20181109T055218Z
DTSTART:20191125T210000Z
DTEND:20191126T053000Z
SUMMARY:KISS
END:VEVENT
END:VCALENDAR
