BEGIN:VCALENDAR
VERSION:2.0
PRODID:-//Squarespace Inc/Squarespace 6//v6//EN
BEGIN:VEVENT
UID:5cef8064bc036400015e5b23@squarespace.com
DTSTAMP:20190530T071731Z
DTSTART:20191102T023000Z
DTEND:20191102T123000Z
SUMMARY:Jimmy Barnes Rocks Tullamore with Troy Cassar- Daley and The Daisy 
 Dukes
END:VEVENT
END:VCALENDAR
