BEGIN:VCALENDAR
VERSION:2.0
PRODID:-//Squarespace Inc/Squarespace 6//v6//EN
BEGIN:VEVENT
UID:5baaecf153450a3f09f60a15@squarespace.com
DTSTAMP:20180926T023209Z
DTSTART:20181027T013000Z
DTEND:20181028T023000Z
SUMMARY:Jersey Boys
END:VEVENT
END:VCALENDAR
