BEGIN:VCALENDAR
VERSION:2.0
PRODID:-//Squarespace Inc/Squarespace 6//v6//EN
BEGIN:VEVENT
UID:5b440172352f53165383401f@squarespace.com
DTSTAMP:20181120T034840Z
DTSTART:20181122T200000Z
DTEND:20181125T050000Z
SUMMARY:HUNTER VALLEY CHRISTMAS LIGHTS SPECTACULAR
END:VEVENT
END:VCALENDAR
