BEGIN:VCALENDAR
VERSION:2.0
PRODID:-//Squarespace Inc/Squarespace 6//v6//EN
BEGIN:VEVENT
UID:5d2eb06817f7050001fa0016@squarespace.com
DTSTAMP:20190717T072929Z
DTSTART:20190804T220000Z
DTEND:20190806T070000Z
SUMMARY:Hugh Jackman: The Man. The Music. The Show
END:VEVENT
END:VCALENDAR
