BEGIN:VCALENDAR
VERSION:2.0
PRODID:-//Squarespace Inc/Squarespace 6//v6//EN
BEGIN:VEVENT
UID:5d2eb2f17383f20001c86ccc@squarespace.com
DTSTAMP:20190717T073047Z
DTSTART:20190806T220000Z
DTEND:20190808T070000Z
SUMMARY:Hugh Jackman: The Man.  The Music.  The Show
END:VEVENT
END:VCALENDAR
