BEGIN:VCALENDAR
VERSION:2.0
PRODID:-//Squarespace Inc/Squarespace 6//v6//EN
BEGIN:VEVENT
UID:5ddb0c10b53adb35ea9aac4c@squarespace.com
DTSTAMP:20191128T001923Z
DTSTART:20200731T220000Z
DTEND:20200802T080000Z
SUMMARY:FROZEN: THE MUSICAL
END:VEVENT
END:VCALENDAR
