BEGIN:VCALENDAR
VERSION:2.0
PRODID:-//Squarespace Inc/Squarespace 6//v6//EN
BEGIN:VEVENT
UID:5df2d8491678ca753884b797@squarespace.com
DTSTAMP:20191213T002819Z
DTSTART:20200122T043000Z
DTEND:20200122T050000Z
SUMMARY:Elton John- Farewell Tour: TRAVEL ONLY
END:VEVENT
END:VCALENDAR
