BEGIN:VCALENDAR
VERSION:2.0
PRODID:-//Squarespace Inc/Squarespace 6//v6//EN
BEGIN:VEVENT
UID:5de48e4c01908e6073065ab9@squarespace.com
DTSTAMP:20191202T041720Z
DTSTART:20200710T200000Z
DTEND:20200711T120000Z
SUMMARY:DISNEY ON ICE 
END:VEVENT
END:VCALENDAR
