BEGIN:VCALENDAR
VERSION:2.0
PRODID:-//Squarespace Inc/Squarespace 6//v6//EN
BEGIN:VEVENT
UID:5c732de7eef1a1a6b0de9ecd@squarespace.com
DTSTAMP:20190624T035052Z
DTSTART:20190712T200000Z
DTEND:20190713T120000Z
SUMMARY:Disney on Ice- Celebrates Mickey and Friends 2019
END:VEVENT
END:VCALENDAR
