BEGIN:VCALENDAR
VERSION:2.0
PRODID:-//Squarespace Inc/Squarespace 6//v6//EN
BEGIN:VEVENT
UID:5b88a4bfb8a045710333000b@squarespace.com
DTSTAMP:20190114T235822Z
DTSTART:20190220T210000Z
DTEND:20190222T064500Z
SUMMARY:DANIEL O'DONNELL
END:VEVENT
END:VCALENDAR
