BEGIN:VCALENDAR
VERSION:2.0
PRODID:-//Squarespace Inc/Squarespace 6//v6//EN
BEGIN:VEVENT
UID:5cb8061d15fcc020512f5a5b@squarespace.com
DTSTAMP:20190418T052544Z
DTSTART:20191004T220000Z
DTEND:20191006T073000Z
SUMMARY:Cirque Du Soleil: KURIOS- Cabinet of Curiosities
END:VEVENT
END:VCALENDAR
