BEGIN:VCALENDAR
VERSION:2.0
PRODID:-//Squarespace Inc/Squarespace 6//v6//EN
BEGIN:VEVENT
UID:5c999f09f4e1fca0d016ef95@squarespace.com
DTSTAMP:20190326T035908Z
DTSTART:20190913T213000Z
DTEND:20190915T070000Z
SUMMARY:Chicago The Musical
END:VEVENT
END:VCALENDAR
