BEGIN:VCALENDAR
VERSION:2.0
PRODID:-//Squarespace Inc/Squarespace 6//v6//EN
BEGIN:VEVENT
UID:5df2d0b293135176b0677896@squarespace.com
DTSTAMP:20191212T235658Z
DTSTART:20200703T213000Z
DTEND:20200705T071500Z
SUMMARY:9 to 5 The Musical
END:VEVENT
END:VCALENDAR
