BEGIN:VCALENDAR
VERSION:2.0
PRODID:-//Squarespace Inc/Squarespace 6//v6//EN
BEGIN:VEVENT
UID:5cdcf4dc24a6943c90fb5fce@squarespace.com
DTSTAMP:20190517T031425Z
DTSTART:20190612T200000Z
DTEND:20190619T080000Z
SUMMARY:7 Day Lake Eyre Tour
END:VEVENT
END:VCALENDAR
