BEGIN:VCALENDAR
VERSION:2.0
PRODID:-//Squarespace Inc/Squarespace 6//v6//EN
BEGIN:VEVENT
UID:5ad6b013562fa7457d60d20e@squarespace.com
DTSTAMP:20191128T002004Z
DTSTART:20210121T190000Z
DTEND:20210128T060000Z
SUMMARY:AUSTRALIAN OPEN 2021
END:VEVENT
END:VCALENDAR
