BEGIN:VCALENDAR
VERSION:2.0
PRODID:-//Squarespace Inc/Squarespace 6//v6//EN
BEGIN:VEVENT
UID:5ddc8da38f4efe6a742d9b20@squarespace.com
DTSTAMP:20191127T221229Z
DTSTART:20200901T220000Z
DTEND:20200921T080000Z
SUMMARY:20 DAY NEW ZEALAND ULTIMATE EXPLORER
END:VEVENT
END:VCALENDAR
