BEGIN:VCALENDAR
VERSION:2.0
PRODID:-//Squarespace Inc/Squarespace 6//v6//EN
BEGIN:VEVENT
UID:5bf214f2cd836636ea5a5ba3@squarespace.com
DTSTAMP:20191128T001124Z
DTSTART:20200501T223000Z
DTEND:20200502T130000Z
SUMMARY:TRUNDLE ABBA FESTIVAL 2020
END:VEVENT
END:VCALENDAR
