BEGIN:VCALENDAR
VERSION:2.0
PRODID:-//Squarespace Inc/Squarespace 6//v6//EN
BEGIN:VEVENT
UID:5ddca6468f4efe6a7430e37c@squarespace.com
DTSTAMP:20191126T230231Z
DTSTART:20200804T200000Z
DTEND:20200807T060000Z
SUMMARY:RIVERBOAT POSTMAN 2020
END:VEVENT
END:VCALENDAR
