BEGIN:VCALENDAR
VERSION:2.0
PRODID:-//Squarespace Inc/Squarespace 6//v6//EN
BEGIN:VEVENT
UID:5ad68659352f5320d2fb3cba@squarespace.com
DTSTAMP:20191127T230447Z
DTSTART:20200919T200000Z
DTEND:20201004T050000Z
SUMMARY:TASMANIA - THE APPLE ISLE
END:VEVENT
END:VCALENDAR
