BEGIN:VCALENDAR
VERSION:2.0
PRODID:-//Squarespace Inc/Squarespace 6//v6//EN
BEGIN:VEVENT
UID:5ddd969c5e1d641741e98882@squarespace.com
DTSTAMP:20191126T233233Z
DTSTART:20200607T200000Z
DTEND:20200620T070000Z
SUMMARY:OUTBACK ADVENTURE
END:VEVENT
END:VCALENDAR
