BEGIN:VCALENDAR
VERSION:2.0
PRODID:-//Squarespace Inc/Squarespace 6//v6//EN
BEGIN:VEVENT
UID:5ad684c28a922d74450273d4@squarespace.com
DTSTAMP:20191126T051934Z
DTSTART:20200815T200000Z
DTEND:20200825T070000Z
SUMMARY:NORFOLK ISLAND 2020
END:VEVENT
END:VCALENDAR
