BEGIN:VCALENDAR
VERSION:2.0
PRODID:-//Squarespace Inc/Squarespace 6//v6//EN
BEGIN:VEVENT
UID:5ddf10dd36172f0b2f55bff2@squarespace.com
DTSTAMP:20200219T060747Z
DTSTART:20201212T233000Z
DTEND:20201213T060000Z
SUMMARY:MYSTERY CHRISTMAS LUNCH
END:VEVENT
END:VCALENDAR
