BEGIN:VCALENDAR
VERSION:2.0
PRODID:-//Squarespace Inc/Squarespace 6//v6//EN
BEGIN:VEVENT
UID:5ddf0e6b36172f0b2f556846@squarespace.com
DTSTAMP:20200219T060713Z
DTSTART:20200726T000000Z
DTEND:20200726T063000Z
SUMMARY:MYSTERY CHRISTMAS IN JULY LUNCH
END:VEVENT
END:VCALENDAR
