BEGIN:VCALENDAR
VERSION:2.0
PRODID:-//Squarespace Inc/Squarespace 6//v6//EN
BEGIN:VEVENT
UID:5bf35a7f03ce642554837b97@squarespace.com
DTSTAMP:20191126T043151Z
DTSTART:20201006T190000Z
DTEND:20201014T060000Z
SUMMARY:EXPLORE MELBOURNE\, TESSELAAR TULIP &amp\; SILO ART
END:VEVENT
END:VCALENDAR
