BEGIN:VCALENDAR
VERSION:2.0
PRODID:-//Squarespace Inc/Squarespace 6//v6//EN
BEGIN:VEVENT
UID:5ddc97ff8ef405035ca17254@squarespace.com
DTSTAMP:20191128T001801Z
DTSTART:20201010T200000Z
DTEND:20201011T060000Z
SUMMARY:IANDRA CASTLE
END:VEVENT
END:VCALENDAR
