BEGIN:VCALENDAR
VERSION:2.0
PRODID:-//Squarespace Inc/Squarespace 6//v6//EN
BEGIN:VEVENT
UID:5ddcab3252bb9b24592b157d@squarespace.com
DTSTAMP:20200226T052731Z
DTSTART:20201126T200000Z
DTEND:20201129T060000Z
SUMMARY:HUNTER VALLEY CHRISTMAS LIGHTS 2020
END:VEVENT
END:VCALENDAR
