BEGIN:VCALENDAR
VERSION:2.0
PRODID:-//Squarespace Inc/Squarespace 6//v6//EN
BEGIN:VEVENT
UID:5ddcb6018ef405035ca51cac@squarespace.com
DTSTAMP:20191126T053723Z
DTSTART:20200907T200000Z
DTEND:20200914T070000Z
SUMMARY:NSW GOLDEN WEST RAIL TOUR
END:VEVENT
END:VCALENDAR
