BEGIN:VCALENDAR
VERSION:2.0
PRODID:-//Squarespace Inc/Squarespace 6//v6//EN
BEGIN:VEVENT
UID:5ad688f00e2e728f9bb24629@squarespace.com
DTSTAMP:20191128T002042Z
DTSTART:20201219T190000Z
DTEND:20201229T060000Z
SUMMARY:CHRISTMAS ON NORFOLK ISLAND 2020
END:VEVENT
END:VCALENDAR
