BEGIN:VCALENDAR
VERSION:2.0
PRODID:-//Squarespace Inc/Squarespace 6//v6//EN
BEGIN:VEVENT
UID:5ad68318352f53c892f43561@squarespace.com
DTSTAMP:20191126T231722Z
DTSTART:20200718T200000Z
DTEND:20200728T080000Z
SUMMARY:SENSATIONAL SINGAPORE 
END:VEVENT
END:VCALENDAR
