BEGIN:VCALENDAR
VERSION:2.0
PRODID:-//Squarespace Inc/Squarespace 6//v6//EN
BEGIN:VEVENT
UID:5ddf0213e6b0e7013a2842b8@squarespace.com
DTSTAMP:20191127T234254Z
DTSTART:20201012T103000Z
DTEND:20201025T060000Z
SUMMARY:HIGHLIGHTS OF VIETNAM
END:VEVENT
END:VCALENDAR
