BEGIN:VCALENDAR
VERSION:2.0
PRODID:-//Squarespace Inc/Squarespace 6//v6//EN
BEGIN:VEVENT
UID:5ddf0b860c91bc6c3b925ccc@squarespace.com
DTSTAMP:20191128T001021Z
DTSTART:20200314T200000Z
DTEND:20200315T060000Z
SUMMARY:OLD ERROWANBANG WOOLSHED
END:VEVENT
END:VCALENDAR
