BEGIN:VCALENDAR
VERSION:2.0
PRODID:-//Squarespace Inc/Squarespace 6//v6//EN
BEGIN:VEVENT
UID:5becbbde562fa74fcf162edd@squarespace.com
DTSTAMP:20181120T224230Z
DTSTART:20190301T220000Z
DTEND:20190303T063000Z
SUMMARY:MARDI GRAS 2019
END:VEVENT
END:VCALENDAR
