BEGIN:VCALENDAR
VERSION:2.0
PRODID:-//Squarespace Inc/Squarespace 6//v6//EN
BEGIN:VEVENT
UID:5bf37bd303ce64eaeba4e427@squarespace.com
DTSTAMP:20191126T020419Z
DTSTART:20191105T210000Z
DTEND:20191108T070000Z
SUMMARY:RIVERBOAT POSTMAN
END:VEVENT
END:VCALENDAR
