BEGIN:VCALENDAR
VERSION:2.0
PRODID:-//Squarespace Inc/Squarespace 6//v6//EN
BEGIN:VEVENT
UID:5bf1eee2575d1f96f716caac@squarespace.com
DTSTAMP:20191126T052001Z
DTSTART:20190725T220000Z
DTEND:20190807T060000Z
SUMMARY:PROUD MARY AND ADELAIDE
END:VEVENT
END:VCALENDAR
