BEGIN:VCALENDAR
VERSION:2.0
PRODID:-//Squarespace Inc/Squarespace 6//v6//EN
BEGIN:VEVENT
UID:5dddb2e3e6b17d4a8f133fee@squarespace.com
DTSTAMP:20191126T233139Z
DTSTART:20201108T190000Z
DTEND:20201121T060000Z
SUMMARY:STAY PUT IN ADELAIDE AND PROUD MARY
END:VEVENT
END:VCALENDAR
