BEGIN:VCALENDAR
VERSION:2.0
PRODID:-//Squarespace Inc/Squarespace 6//v6//EN
BEGIN:VEVENT
UID:5ad6aab4352f5320d20196b9@squarespace.com
DTSTAMP:20181120T031128Z
DTSTART:20191018T190000Z
DTEND:20191019T070000Z
SUMMARY:MAYFIELD GARDENS
END:VEVENT
END:VCALENDAR
