BEGIN:VCALENDAR
VERSION:2.0
PRODID:-//Squarespace Inc/Squarespace 6//v6//EN
BEGIN:VEVENT
UID:5ad69df0562fa7457d5da543@squarespace.com
DTSTAMP:20181120T030057Z
DTSTART:20191010T210000Z
DTEND:20191013T060000Z
SUMMARY:HYDRO MAJESTIC - A TOUCH OF DECADENCE
END:VEVENT
END:VCALENDAR
