BEGIN:VCALENDAR
VERSION:2.0
PRODID:-//Squarespace Inc/Squarespace 6//v6//EN
BEGIN:VEVENT
UID:5bf38418cd8366b5875546f6@squarespace.com
DTSTAMP:20191126T043354Z
DTSTART:20191128T200000Z
DTEND:20191201T050000Z
SUMMARY:HUNTER VALLEY CHRISTMAS LIGHTS 2019
END:VEVENT
END:VCALENDAR
