BEGIN:VCALENDAR
VERSION:2.0
PRODID:-//Squarespace Inc/Squarespace 6//v6//EN
BEGIN:VEVENT
UID:5bf34d2c352f53db28d09045@squarespace.com
DTSTAMP:20181120T000310Z
DTSTART:20190709T220000Z
DTEND:20190712T060000Z
SUMMARY:CARRINGTON HOTEL CHRISTMAS IN JULY
END:VEVENT
END:VCALENDAR
