BEGIN:VCALENDAR
VERSION:2.0
PRODID:-//Squarespace Inc/Squarespace 6//v6//EN
BEGIN:VEVENT
UID:5af0ea48758d463fce5799bc@squarespace.com
DTSTAMP:20191127T230907Z
DTSTART:20190330T103000Z
DTEND:20190410T220000Z
SUMMARY:JAPAN IN FULL BLOOM
END:VEVENT
END:VCALENDAR
