BEGIN:VCALENDAR
VERSION:2.0
PRODID:-//Squarespace Inc/Squarespace 6//v6//EN
BEGIN:VEVENT
UID:5aea717ff950b76251612ee4@squarespace.com
DTSTAMP:20190323T035554Z
DTSTART:20190322T210000Z
DTEND:20190324T070000Z
SUMMARY:CHARLIE AND THE CHOCOLATE FACTORY
END:VEVENT
END:VCALENDAR
